BEGIN:VCALENDAR
VERSION:2.0
PRODID:-//Powerful Futures Initiative - ECPv6.13.2.1//NONSGML v1.0//EN
CALSCALE:GREGORIAN
METHOD:PUBLISH
X-WR-CALNAME:Powerful Futures Initiative
X-ORIGINAL-URL:https://powerfulfutures.org
X-WR-CALDESC:Events for Powerful Futures Initiative
REFRESH-INTERVAL;VALUE=DURATION:PT1H
X-Robots-Tag:noindex
X-PUBLISHED-TTL:PT1H
BEGIN:VTIMEZONE
TZID:America/Chicago
BEGIN:DAYLIGHT
TZOFFSETFROM:-0600
TZOFFSETTO:-0500
TZNAME:CDT
DTSTART:20260308T080000
END:DAYLIGHT
BEGIN:STANDARD
TZOFFSETFROM:-0500
TZOFFSETTO:-0600
TZNAME:CST
DTSTART:20261101T070000
END:STANDARD
END:VTIMEZONE
BEGIN:VEVENT
DTSTART;TZID=America/Chicago:20260127T183000
DTEND;TZID=America/Chicago:20260127T193000
DTSTAMP:20260423T172230
CREATED:20260121T214556Z
LAST-MODIFIED:20260121T215430Z
UID:968-1769538600-1769542200@powerfulfutures.org
SUMMARY:Financial Literacy Presented by Wellby Financial
DESCRIPTION:Banking Basics Class:\nLearn about the credit union difference & open your account!
URL:https://powerfulfutures.org/event/financial-literacy-presented-by-wellby-financial/
LOCATION:Mt. Carmel Baptist Church\, 2920 State Hwy 3\, Dickinson\, TX\, 77539\, United States
END:VEVENT
END:VCALENDAR