BEGIN:VCALENDAR
VERSION:2.0
PRODID:-//Powerful Futures Initiative - ECPv6.13.2.1//NONSGML v1.0//EN
CALSCALE:GREGORIAN
METHOD:PUBLISH
X-WR-CALNAME:Powerful Futures Initiative
X-ORIGINAL-URL:https://powerfulfutures.org
X-WR-CALDESC:Events for Powerful Futures Initiative
REFRESH-INTERVAL;VALUE=DURATION:PT1H
X-Robots-Tag:noindex
X-PUBLISHED-TTL:PT1H
BEGIN:VTIMEZONE
TZID:America/Chicago
BEGIN:DAYLIGHT
TZOFFSETFROM:-0600
TZOFFSETTO:-0500
TZNAME:CDT
DTSTART:20260308T080000
END:DAYLIGHT
BEGIN:STANDARD
TZOFFSETFROM:-0500
TZOFFSETTO:-0600
TZNAME:CST
DTSTART:20261101T070000
END:STANDARD
END:VTIMEZONE
BEGIN:VTIMEZONE
TZID:UTC
BEGIN:STANDARD
TZOFFSETFROM:+0000
TZOFFSETTO:+0000
TZNAME:UTC
DTSTART:20260101T000000
END:STANDARD
END:VTIMEZONE
BEGIN:VEVENT
DTSTART;TZID=America/Chicago:20260305T183000
DTEND;TZID=America/Chicago:20260305T183000
DTSTAMP:20260423T160543
CREATED:20260121T214555Z
LAST-MODIFIED:20260121T215529Z
UID:1012-1772735400-1772735400@powerfulfutures.org
SUMMARY:The PFI Challenge
DESCRIPTION:Topic: What is a Business Venture Storyline
URL:https://powerfulfutures.org/event/the-pfi-challenge-2/
LOCATION:Eugene Kranz Jr High School\, 12850 Farm to Market Rd 3436\, Dickinson\, TX\, 77539\, United States
END:VEVENT
BEGIN:VEVENT
DTSTART;TZID=UTC:20260310T183000
DTEND;TZID=UTC:20260310T183000
DTSTAMP:20260423T160543
CREATED:20260121T214555Z
LAST-MODIFIED:20260121T215547Z
UID:980-1773167400-1773167400@powerfulfutures.org
SUMMARY:Financial Literacy Presented by Wellby Financial
DESCRIPTION:Saving And Investing Basics Class
URL:https://powerfulfutures.org/event/financial-literacy-presented-by-wellby-financial-3/
LOCATION:Mt. Carmel Baptist Church\, 2920 State Hwy 3\, Dickinson\, TX\, 77539\, United States
END:VEVENT
BEGIN:VEVENT
DTSTART;TZID=America/Chicago:20260319T183000
DTEND;TZID=America/Chicago:20260319T183000
DTSTAMP:20260423T160543
CREATED:20260121T214555Z
LAST-MODIFIED:20260121T215602Z
UID:1014-1773945000-1773945000@powerfulfutures.org
SUMMARY:The PFI Challenge
DESCRIPTION:Topic: What is a Fundable Business Venture
URL:https://powerfulfutures.org/event/the-pfi-challenge-3/
LOCATION:Eugene Kranz Jr High School\, 12850 Farm to Market Rd 3436\, Dickinson\, TX\, 77539\, United States
END:VEVENT
BEGIN:VEVENT
DTSTART;TZID=America/Chicago:20260404T183000
DTEND;TZID=America/Chicago:20260404T183000
DTSTAMP:20260423T160543
CREATED:20260121T214555Z
LAST-MODIFIED:20260121T215618Z
UID:1016-1775327400-1775327400@powerfulfutures.org
SUMMARY:The PFI Challenge
DESCRIPTION:Topic: Definition of Your Business Venture Brand
URL:https://powerfulfutures.org/event/the-pfi-challenge-4/
LOCATION:Eugene Kranz Jr High School\, 12850 Farm to Market Rd 3436\, Dickinson\, TX\, 77539\, United States
END:VEVENT
BEGIN:VEVENT
DTSTART;TZID=America/Chicago:20260730T000000
DTEND;TZID=America/Chicago:20260730T235959
DTSTAMP:20260423T160543
CREATED:20260121T155500Z
LAST-MODIFIED:20260121T215340Z
UID:1048-1785369600-1785455999@powerfulfutures.org
SUMMARY:The PFI Challenge
DESCRIPTION:Final business plans and budgets due. \nSubmit business plans to phusionplatform[at]gmail.com
URL:https://powerfulfutures.org/event/pfi-financial-challenge/
LOCATION:TX
END:VEVENT
BEGIN:VEVENT
DTSTART;TZID=America/Chicago:20260819T000000
DTEND;TZID=America/Chicago:20260819T235959
DTSTAMP:20260423T160543
CREATED:20260121T160102Z
LAST-MODIFIED:20260121T215410Z
UID:1053-1787097600-1787183999@powerfulfutures.org
SUMMARY:The PFI Challenge
DESCRIPTION:PFI Pitch Competition \n 
URL:https://powerfulfutures.org/event/the-pfi-challenge-6/
LOCATION:Faith United Methodist Church\, 2205 Avenue G\, Dickenson\, TX\, 77539\, United States
END:VEVENT
END:VCALENDAR