BEGIN:VCALENDAR
VERSION:2.0
PRODID:-//Powerful Futures Initiative - ECPv6.13.2.1//NONSGML v1.0//EN
CALSCALE:GREGORIAN
METHOD:PUBLISH
X-ORIGINAL-URL:https://powerfulfutures.org
X-WR-CALDESC:Events for Powerful Futures Initiative
REFRESH-INTERVAL;VALUE=DURATION:PT1H
X-Robots-Tag:noindex
X-PUBLISHED-TTL:PT1H
BEGIN:VTIMEZONE
TZID:UTC
BEGIN:STANDARD
TZOFFSETFROM:+0000
TZOFFSETTO:+0000
TZNAME:UTC
DTSTART:20260101T000000
END:STANDARD
END:VTIMEZONE
BEGIN:VTIMEZONE
TZID:America/Chicago
BEGIN:DAYLIGHT
TZOFFSETFROM:-0600
TZOFFSETTO:-0500
TZNAME:CDT
DTSTART:20260308T080000
END:DAYLIGHT
BEGIN:STANDARD
TZOFFSETFROM:-0500
TZOFFSETTO:-0600
TZNAME:CST
DTSTART:20261101T070000
END:STANDARD
END:VTIMEZONE
BEGIN:VEVENT
DTSTART;TZID=UTC:20260210T183000
DTEND;TZID=UTC:20260210T183000
DTSTAMP:20260423T155009
CREATED:20260121T214556Z
LAST-MODIFIED:20260121T215441Z
UID:978-1770748200-1770748200@powerfulfutures.org
SUMMARY:Financial Literacy Presented by Wellby Financial
DESCRIPTION:Budgeting Class: \nLearn about budgeting methods & Open an account!
URL:https://powerfulfutures.org/event/financial-literacy-presented-by-wellby-financial-2/
LOCATION:Mt. Carmel Baptist Church\, 2920 State Hwy 3\, Dickinson\, TX\, 77539\, United States
END:VEVENT
BEGIN:VEVENT
DTSTART;TZID=America/Chicago:20260219T183000
DTEND;TZID=America/Chicago:20260219T183000
DTSTAMP:20260423T155009
CREATED:20260121T214555Z
LAST-MODIFIED:20260121T215508Z
UID:1006-1771525800-1771525800@powerfulfutures.org
SUMMARY:The PFI Challenge
DESCRIPTION:Topic: What is an Entrepreneur and/or an Entrepreneurial Team
URL:https://powerfulfutures.org/event/the-pfi-challenge/
LOCATION:Eugene Kranz Jr High School\, 12850 Farm to Market Rd 3436\, Dickinson\, TX\, 77539\, United States
END:VEVENT
END:VCALENDAR